BEGIN:VCALENDAR
VERSION:2.0
PRODID:-//AudioTheme 3.0.2
BEGIN:VEVENT
UID:urn:uuid:4a2b34d4-6e2d-44c8-8cd6-7f35b4eddc33
URL:https://gigimariemusic.com/shows/marti-gras-diagrams-party/
DTSTART;TZID=GMT:20240211T010000
SUMMARY:Marti Gras Diagrams Party
DESCRIPTION:Get ready to party at the Mardi Gras Diagrams Party with Gigi Marie\, Sable Drive & All The Smoke on February 11\, 2024 – it's gonna be lit!
LOCATION:Galactic Panther\, 1303 King St.\, Alexandria\, VA\, 22314
END:VEVENT
END:VCALENDAR
