BEGIN:VCALENDAR
VERSION:2.0
PRODID:-//AudioTheme 3.0.2
BEGIN:VEVENT
UID:urn:uuid:21e547ba-ef55-4601-9b4c-4410ffc16902
URL:https://gigimariemusic.com/shows/galactic-panther/
DTSTART;TZID=GMT:20230923T230000
SUMMARY:Galactic Panther
DESCRIPTION:A September Saturday evening LIVE with local music artists\; Gigi Marie\, Little Ghost + the Fellow Spirits\, and FANTAZMA.
LOCATION:Galactic Panther\, 1303 King St.\, Alexandria\, VA\, 22314
END:VEVENT
END:VCALENDAR
